BEGIN:VCALENDAR
VERSION:2.0
PRODID:-//wp-events-plugin.com//7.2.3.1//EN
TZID:Europe/London
X-WR-TIMEZONE:Europe/London
BEGIN:VEVENT
UID:56@ashfield.herts.sch.uk
DTSTART;VALUE=DATE:20240313
DTEND;VALUE=DATE:20240314
DTSTAMP:20240312T141550Z
URL:https://ashfield.herts.sch.uk/events/3l-sponsored-pyjama-and-art-activ
 ity-day/
SUMMARY:3L Sponsored Pyjama and Art Activity Day
DESCRIPTION:
END:VEVENT
END:VCALENDAR