BEGIN:VCALENDAR
VERSION:2.0
PRODID:-//wp-events-plugin.com//7.2.3.1//EN
TZID:Europe/London
X-WR-TIMEZONE:Europe/London
BEGIN:VEVENT
UID:188@ashfield.herts.sch.uk
DTSTART:20251126T133000Z
DTEND:20251126T143000Z
DTSTAMP:20251107T132038Z
URL:https://ashfield.herts.sch.uk/events/3m-visit-to-bushey-public-library
 /
SUMMARY:3M Visit to Bushey Public Library
DESCRIPTION:
CATEGORIES:diary dates
END:VEVENT
END:VCALENDAR