BEGIN:VCALENDAR
VERSION:2.0
PRODID:-//wp-events-plugin.com//7.2.3.1//EN
TZID:Europe/London
X-WR-TIMEZONE:Europe/London
BEGIN:VEVENT
UID:114@ashfield.herts.sch.uk
DTSTART:20250107T090000Z
DTEND:20250107T100000Z
DTSTAMP:20241230T150730Z
URL:https://ashfield.herts.sch.uk/events/4v-cornet-lessons-begin/
SUMMARY:4V Cornet Lessons
DESCRIPTION:
CATEGORIES:diary dates
END:VEVENT
END:VCALENDAR