BEGIN:VCALENDAR
VERSION:2.0
PRODID:-//wp-events-plugin.com//7.2.3.1//EN
TZID:Europe/London
X-WR-TIMEZONE:Europe/London
BEGIN:VEVENT
UID:113@ashfield.herts.sch.uk
DTSTART:20250106T130000Z
DTEND:20250106T140000Z
DTSTAMP:20241230T150650Z
URL:https://ashfield.herts.sch.uk/events/4v-swimming-begins/
SUMMARY:4M Swimming
DESCRIPTION:
CATEGORIES:diary dates
END:VEVENT
END:VCALENDAR