BEGIN:VCALENDAR
VERSION:2.0
PRODID:-//wp-events-plugin.com//7.2.3.1//EN
TZID:Europe/London
X-WR-TIMEZONE:Europe/London
BEGIN:VEVENT
UID:33@ashfield.herts.sch.uk
DTSTART;VALUE=DATE:20250505
DTEND;VALUE=DATE:20250506
DTSTAMP:20231017T110403Z
URL:https://ashfield.herts.sch.uk/events/bank-holiday-2/
SUMMARY:Bank Holiday
DESCRIPTION:
CATEGORIES:diary dates,term dates
END:VEVENT
END:VCALENDAR