BEGIN:VCALENDAR
VERSION:2.0
PRODID:-//wp-events-plugin.com//7.2.3.1//EN
TZID:Europe/London
X-WR-TIMEZONE:Europe/London
BEGIN:VEVENT
UID:58@ashfield.herts.sch.uk
DTSTART:20240319T120000Z
DTEND:20240319T130000Z
DTSTAMP:20240312T141948Z
URL:https://ashfield.herts.sch.uk/events/cater-link-themed-ancient-world-m
 enu/
SUMMARY:Cater Link Themed Ancient World Menu
DESCRIPTION:
END:VEVENT
END:VCALENDAR