BEGIN:VCALENDAR
VERSION:2.0
PRODID:-//wp-events-plugin.com//7.2.3.1//EN
TZID:Europe/London
X-WR-TIMEZONE:Europe/London
BEGIN:VEVENT
UID:112@ashfield.herts.sch.uk
DTSTART;VALUE=DATE:20241218
DTEND;VALUE=DATE:20241219
DTSTAMP:20241120T125629Z
URL:https://ashfield.herts.sch.uk/events/christmas-dinner-and-jumper-day-2
 /
SUMMARY:Christmas Dinner and Jumper Day
DESCRIPTION:
CATEGORIES:diary dates
END:VEVENT
END:VCALENDAR