BEGIN:VCALENDAR
VERSION:2.0
PRODID:-//wp-events-plugin.com//7.2.3.1//EN
TZID:Europe/London
X-WR-TIMEZONE:Europe/London
BEGIN:VEVENT
UID:111@ashfield.herts.sch.uk
DTSTART:20241217T130000Z
DTEND:20241217T150000Z
DTSTAMP:20241120T125119Z
URL:https://ashfield.herts.sch.uk/events/flu-vaccination-mop-up-session/
SUMMARY:Flu vaccination-mop up session
DESCRIPTION:
CATEGORIES:diary dates
END:VEVENT
END:VCALENDAR