BEGIN:VCALENDAR
VERSION:2.0
PRODID:-//wp-events-plugin.com//7.2.3.1//EN
TZID:Europe/London
X-WR-TIMEZONE:Europe/London
BEGIN:VEVENT
UID:154@ashfield.herts.sch.uk
DTSTART;VALUE=DATE:20250523
DTEND;VALUE=DATE:20250524
DTSTAMP:20250519T184134Z
URL:https://ashfield.herts.sch.uk/events/games-day/
SUMMARY:Games Day
DESCRIPTION:
CATEGORIES:diary dates
END:VEVENT
END:VCALENDAR