BEGIN:VCALENDAR
VERSION:2.0
PRODID:-//wp-events-plugin.com//7.2.3.1//EN
TZID:Europe/London
X-WR-TIMEZONE:Europe/London
BEGIN:VEVENT
UID:173@ashfield.herts.sch.uk
DTSTART:20270325T133000Z
DTEND:20270325T133000Z
DTSTAMP:20251009T201443Z
URL:https://ashfield.herts.sch.uk/events/term-ends-11/
SUMMARY:Term ends
DESCRIPTION:
CATEGORIES:diary dates,term dates
END:VEVENT
END:VCALENDAR