BEGIN:VCALENDAR
VERSION:2.0
PRODID:-//wp-events-plugin.com//7.2.3.1//EN
TZID:Europe/London
X-WR-TIMEZONE:Europe/London
BEGIN:VEVENT
UID:174@ashfield.herts.sch.uk
DTSTART;VALUE=DATE:20270412
DTEND;VALUE=DATE:20270413
DTSTAMP:20251009T201710Z
URL:https://ashfield.herts.sch.uk/events/term-starts-12/
SUMMARY:Term starts
DESCRIPTION:
CATEGORIES:diary dates,term dates
END:VEVENT
END:VCALENDAR