BEGIN:VCALENDAR
VERSION:2.0
PRODID:-//wp-events-plugin.com//7.2.3.1//EN
TZID:Europe/London
X-WR-TIMEZONE:Europe/London
BEGIN:VEVENT
UID:189@ashfield.herts.sch.uk
DTSTART:20251202T152000Z
DTEND:20251202T160000Z
DTSTAMP:20251119T195818Z
URL:https://ashfield.herts.sch.uk/events/year-3-and-4-cake-sale/
SUMMARY:Year 3 and 4 Cake Sale
DESCRIPTION:
CATEGORIES:diary dates
END:VEVENT
END:VCALENDAR