BEGIN:VCALENDAR
VERSION:2.0
PRODID:-//wp-events-plugin.com//7.2.3.1//EN
TZID:Europe/London
X-WR-TIMEZONE:Europe/London
BEGIN:VEVENT
UID:59@ashfield.herts.sch.uk
DTSTART:20240319T130000Z
DTEND:20240319T150000Z
DTSTAMP:20240312T142041Z
URL:https://ashfield.herts.sch.uk/events/year-3-visit-to-st-james-church/
SUMMARY:Year 3 Visit to St. James' Church
DESCRIPTION:
END:VEVENT
END:VCALENDAR