BEGIN:VCALENDAR
VERSION:2.0
PRODID:-//wp-events-plugin.com//7.2.3.1//EN
TZID:Europe/London
X-WR-TIMEZONE:Europe/London
BEGIN:VEVENT
UID:153@ashfield.herts.sch.uk
DTSTART;VALUE=DATE:20250619
DTEND;VALUE=DATE:20250620
DTSTAMP:20250519T183931Z
URL:https://ashfield.herts.sch.uk/events/year-4-trip-to-hazard-alley-the-s
 afety-centre/
SUMMARY:Year 4 Trip to Hazard Alley (The Safety Centre)
DESCRIPTION:
CATEGORIES:diary dates
END:VEVENT
END:VCALENDAR