BEGIN:VCALENDAR
VERSION:2.0
PRODID:-//wp-events-plugin.com//7.2.3.1//EN
TZID:Europe/London
X-WR-TIMEZONE:Europe/London
BEGIN:VEVENT
UID:55@ashfield.herts.sch.uk
DTSTART;VALUE=DATE:20240507
DTEND;VALUE=DATE:20240508
DTSTAMP:20240209T133858Z
URL:https://ashfield.herts.sch.uk/events/year-4-trip-to-the-verulamium-mus
 eum/
SUMMARY:Year 4 trip to The Verulamium Museum
DESCRIPTION:
CATEGORIES:diary dates
END:VEVENT
END:VCALENDAR