BEGIN:VCALENDAR
VERSION:2.0
PRODID:-//wp-events-plugin.com//7.2.3.1//EN
TZID:Europe/London
X-WR-TIMEZONE:Europe/London
BEGIN:VEVENT
UID:52@ashfield.herts.sch.uk
DTSTART:20240215T163000Z
DTEND:20240215T173000Z
DTSTAMP:20240209T080756Z
URL:https://ashfield.herts.sch.uk/events/year-5-6-disco/
SUMMARY:Year 5 & 6 Disco
DESCRIPTION:
CATEGORIES:diary dates
END:VEVENT
END:VCALENDAR