BEGIN:VCALENDAR
VERSION:2.0
PRODID:-//wp-events-plugin.com//7.2.3.1//EN
TZID:Europe/London
X-WR-TIMEZONE:Europe/London
BEGIN:VEVENT
UID:54@ashfield.herts.sch.uk
DTSTART;VALUE=DATE:20240314
DTEND;VALUE=DATE:20240315
DTSTAMP:20240209T133826Z
URL:https://ashfield.herts.sch.uk/events/year-5-trip-to-the-british-museum
 /
SUMMARY:Year 5 trip to The British Museum
DESCRIPTION:
CATEGORIES:diary dates
END:VEVENT
END:VCALENDAR