BEGIN:VCALENDAR
VERSION:2.0
PRODID:-//wp-events-plugin.com//7.2.3.1//EN
TZID:Europe/London
X-WR-TIMEZONE:Europe/London
BEGIN:VEVENT
UID:150@ashfield.herts.sch.uk
DTSTART:20250718T093000Z
DTEND:20250718T110000Z
DTSTAMP:20250519T183651Z
URL:https://ashfield.herts.sch.uk/events/year-6-leavers-assembly/
SUMMARY:Year 6 Leavers Assembly
DESCRIPTION:
CATEGORIES:diary dates
END:VEVENT
END:VCALENDAR