BEGIN:VCALENDAR
VERSION:2.0
PRODID:-//wp-events-plugin.com//7.2.3.1//EN
TZID:Europe/London
X-WR-TIMEZONE:Europe/London
BEGIN:VEVENT
UID:62@ashfield.herts.sch.uk
DTSTART;VALUE=DATE:20240325
DTEND;VALUE=DATE:20240329
DTSTAMP:20240312T142423Z
URL:https://ashfield.herts.sch.uk/events/year-6-school-journey/
SUMMARY:Year 6 School Journey
DESCRIPTION:
END:VEVENT
END:VCALENDAR