BEGIN:VCALENDAR
VERSION:2.0
PRODID:-//wp-events-plugin.com//7.2.3.1//EN
TZID:Europe/London
X-WR-TIMEZONE:Europe/London
BEGIN:VEVENT
UID:156@ashfield.herts.sch.uk
DTSTART:20250916T090000Z
DTEND:20250916T093000Z
DTSTAMP:20250914T132639Z
URL:https://ashfield.herts.sch.uk/events/year-6-tie-assembly-3/
SUMMARY:Year 6 Tie Assembly
DESCRIPTION:
CATEGORIES:diary dates
END:VEVENT
END:VCALENDAR