BEGIN:VCALENDAR
VERSION:2.0
PRODID:-//wp-events-plugin.com//7.2.3.1//EN
TZID:Europe/London
X-WR-TIMEZONE:Europe/London
BEGIN:VEVENT
UID:157@ashfield.herts.sch.uk
DTSTART;VALUE=DATE:20251105
DTEND;VALUE=DATE:20251106
DTSTAMP:20250914T132933Z
URL:https://ashfield.herts.sch.uk/events/year-6-trip-to-whipsnade-zoo/
SUMMARY:Year 6 Trip to Whipsnade Zoo
DESCRIPTION:
CATEGORIES:diary dates
END:VEVENT
END:VCALENDAR